BEGIN:VCALENDAR
VERSION:2.0
PRODID:-//wp-events-plugin.com//7.2.3.1//EN
TZID:America/Chicago
X-WR-TIMEZONE:America/Chicago
BEGIN:VEVENT
UID:180@yayaswichita.com
DTSTART;TZID=America/Chicago:20241128T100000
DTEND;TZID=America/Chicago:20241128T143000
DTSTAMP:20241004T161837Z
URL:https://yayaswichita.com/events/thanksgiving-brunch/
SUMMARY:Thanksgiving Brunch
DESCRIPTION:Join us for a delightful Thanksgiving Brunch that combines fest
 ive flavors with a warm\, inviting atmosphere. Our brunch will be served a
 t four convenient seating times: 10:00 AM\, 11:30 AM\, 1:00 PM\, and 2:30 
 PM\, allowing you to enjoy a leisurely meal with family and friends at you
 r preferred time.\n\nIndulge in a delectable spread of Thanksgiving classi
 cs and seasonal specialties\, all prepared with care to make your celebrat
 ion truly memorable. Our adult brunch is priced at $40 per person\, while 
 children under 12 can enjoy the feast for just $19.95.\n\nCall 316-634-100
 0 to reserve your table today and make this Thanksgiving extra special wit
 h a brunch experience that’s sure to leave everyone feeling thankful and
  satisfied.
ATTACH;FMTTYPE=image/jpeg:https://yayaswichita.com/wp-content/uploads/2024
 /10/Thanksgiving-Menu-2024-scaled.jpg
CATEGORIES:Special Events
LOCATION:Yaya's Eurobistro\, 8115 E 21 st N\, Wichita\, KS\, 67206\, United
  States
X-APPLE-STRUCTURED-LOCATION;VALUE=URI;X-ADDRESS=8115 E 21 st N\, Wichita\, 
 KS\, 67206\, United States;X-APPLE-RADIUS=100;X-TITLE=Yaya's Eurobistro:ge
 o:0,0
END:VEVENT
BEGIN:VTIMEZONE
TZID:America/Chicago
X-LIC-LOCATION:America/Chicago
BEGIN:STANDARD
DTSTART:20241103T010000
TZOFFSETFROM:-0500
TZOFFSETTO:-0600
TZNAME:CST
END:STANDARD
END:VTIMEZONE
END:VCALENDAR